BEGIN:VCALENDAR
VERSION:2.0
PRODID:-//[:fr]Distilleries Canada[:] - ECPv6.15.18//NONSGML v1.0//EN
CALSCALE:GREGORIAN
METHOD:PUBLISH
X-ORIGINAL-URL:https://distilleriescanada.com
X-WR-CALDESC:Événements pour [:fr]Distilleries Canada[:]
REFRESH-INTERVAL;VALUE=DURATION:PT1H
X-Robots-Tag:noindex
X-PUBLISHED-TTL:PT1H
BEGIN:VTIMEZONE
TZID:America/New_York
BEGIN:DAYLIGHT
TZOFFSETFROM:-0500
TZOFFSETTO:-0400
TZNAME:EDT
DTSTART:20180311T070000
END:DAYLIGHT
BEGIN:STANDARD
TZOFFSETFROM:-0400
TZOFFSETTO:-0500
TZNAME:EST
DTSTART:20181104T060000
END:STANDARD
BEGIN:DAYLIGHT
TZOFFSETFROM:-0500
TZOFFSETTO:-0400
TZNAME:EDT
DTSTART:20190310T070000
END:DAYLIGHT
BEGIN:STANDARD
TZOFFSETFROM:-0400
TZOFFSETTO:-0500
TZNAME:EST
DTSTART:20191103T060000
END:STANDARD
BEGIN:DAYLIGHT
TZOFFSETFROM:-0500
TZOFFSETTO:-0400
TZNAME:EDT
DTSTART:20200308T070000
END:DAYLIGHT
BEGIN:STANDARD
TZOFFSETFROM:-0400
TZOFFSETTO:-0500
TZNAME:EST
DTSTART:20201101T060000
END:STANDARD
END:VTIMEZONE
BEGIN:VEVENT
DTSTART;TZID=America/New_York:20190906T120000
DTEND;TZID=America/New_York:20190906T170000
DTSTAMP:20260419T094549
CREATED:20190905T124850Z
LAST-MODIFIED:20190905T124850Z
UID:315-1567771200-1567789200@distilleriescanada.com
SUMMARY:Festival TRIBUTE
DESCRIPTION:Première édition du festival Tribute qui rend hommage aux spiritueux du Québec au Palais des Congrès de Montréal ! \nLe 6 septembre\, est réservé aux professionnels de midi à 17h00\, le 7 septembre est ouvert quant à lui au public de midi à 23h00. \nVeuillez consulter le site officiel pour plus de détails.
URL:https://distilleriescanada.com/event/festivaltribute2019/
LOCATION:Palais des Congrès\, Montréal\, Québec\, Canada
CATEGORIES:Canada,Distilleries,Évènement,Festival,Montréal,Palais des Congrès,QC,Siritueux
END:VEVENT
END:VCALENDAR